BEGIN:VCALENDAR
VERSION:2.0
PRODID:-//urwahl3000//grueneneubeuern.de//DE
CALSCALE:GREGORIAN
BEGIN:VEVENT
DTSTART:20251023T190000
DTEND:20251023T213000
LOCATION:Marktplatz 5 Neubeuern
DTSTAMP:20251023T190000
SUMMARY:Aufstellungsversammlung zur Kommunalwahl 2026
URL;VALUE=URI:https://grueneneubeuern.de/termin/aufstellungsversammlung-zur-kommunalwahl-2026/
DESCRIPTION:Unsere Kandidat*innen für die Kommunalwahl 2026 stellen sich im Hofwirt vor.

 
UID:20251023T190000-20251023T190000-20251023T213000
END:VEVENT
END:VCALENDAR